BEGIN:VCALENDAR
VERSION:2.0
PRODID:-//ChamberMaster//Event Calendar 2.0//EN
METHOD:PUBLISH
X-PUBLISHED-TTL:P3D
REFRESH-INTERVAL:P3D
CALSCALE:GREGORIAN
BEGIN:VEVENT
DTSTART:20211020T010000Z
DTEND:20211020T020000Z
X-MICROSOFT-CDO-ALLDAYEVENT:FALSE
SUMMARY:Member Orientation: New Programs and Chambermaster
DESCRIPTION:Welcome Members!\n\n\n\nThis webinar is open to both new and existing members who want to learn about Central San Diego Black Chamber of Commerce member benefits\, programs\, upcoming events\, and more!   \n\n\n\nThis orientation will cover our latest programs and ChamberMaster (the chamber's professional social networking platform). During this orientation\, we will discuss the features of Chambermaster in more detail\, and take feedback from the audience on how we can better serve the black business community.\n\n\n\nBe sure to attend!\n\n\n\nLink to Register:\n\nhttps://us06web.zoom.us/webinar/register/WN_ZSWM3H8KQ4GFmqIzJ6GELw
X-ALT-DESC;FMTTYPE=text/html:<br />\n<strong>Welcome Members!</strong><br style="box-sizing: border-box\; color: rgb(35\, 35\, 51)\; font-family: Lato\, Helvetica\, Arial\; font-size: 14px\;" />\n<br style="box-sizing: border-box\; color: rgb(35\, 35\, 51)\; font-family: Lato\, Helvetica\, Arial\; font-size: 14px\;" />\nThis webinar is open to both new and existing members who want to learn about Central San Diego Black Chamber of Commerce member benefits\, programs\, upcoming events\, and more! &#8288\;&nbsp\;<br />\n<br />\n<font color="#232333" face="Lato\, Helvetica\, Arial">This orientation will cover our latest programs and ChamberMaster (the chamber&#39\;s professional social networking platform). During this orientation\, we will discuss the features of Chambermaster in more detail\, and take feedback from the audience on how we can better serve the black business community.<br />\n<br />\nBe sure to attend!<br />\n<br />\nLink to Register:</font><br />\n<a href="https://us06web.zoom.us/webinar/register/WN_ZSWM3H8KQ4GFmqIzJ6GELw" target="_blank">https://us06web.zoom.us/webinar/register/WN_ZSWM3H8KQ4GFmqIzJ6GELw</a>
LOCATION:Zoom virtual Meeting
UID:e.3024.194
SEQUENCE:3
DTSTAMP:20260426T003741Z
URL:http://sdblackchamberca.chambermaster.com/events/details/member-orientation-new-programs-and-chambermaster-194
END:VEVENT

END:VCALENDAR
